Package: LimROTS Version: 0.99.12 Command: /Library/Frameworks/R.framework/Resources/bin/R CMD check --install=check:LimROTS.install-out.txt --library=/Library/Frameworks/R.framework/Resources/library --no-vignettes --timings LimROTS_0.99.12.tar.gz StartedAt: 2025-02-04 21:19:49 -0500 (Tue, 04 Feb 2025) EndedAt: 2025-02-04 21:23:15 -0500 (Tue, 04 Feb 2025) EllapsedTime: 205.8 seconds RetCode: 0 Status: OK CheckDir: LimROTS.Rcheck Warnings: 0