Package: LimROTS Version: 0.99.12 Command: /home/biocbuild/bbs-3.21-bioc/R/bin/R CMD build --keep-empty-dirs --no-resave-data LimROTS StartedAt: 2025-02-04 17:49:46 -0500 (Tue, 04 Feb 2025) EndedAt: 2025-02-04 17:51:01 -0500 (Tue, 04 Feb 2025) EllapsedTime: 75.1 seconds RetCode: 0 Status: OK PackageFile: LimROTS_0.99.12.tar.gz PackageFileSize: 762.7 KiB