Package: LimROTS Version: 0.99.12 Command: /home/biocbuild/bbs-3.21-bioc/R/bin/R CMD check --install=check:LimROTS.install-out.txt --library=/home/biocbuild/bbs-3.21-bioc/R/site-library --timings LimROTS_0.99.12.tar.gz StartedAt: 2025-02-04 23:37:21 -0500 (Tue, 04 Feb 2025) EndedAt: 2025-02-04 23:41:17 -0500 (Tue, 04 Feb 2025) EllapsedTime: 236.5 seconds RetCode: 0 Status: OK CheckDir: LimROTS.Rcheck Warnings: 0