Package: LimROTS Version: 0.99.12 Command: /home/biocbuild/bbs-3.21-bioc/R/bin/R CMD INSTALL LimROTS StartedAt: 2025-02-04 15:49:36 -0500 (Tue, 04 Feb 2025) EndedAt: 2025-02-04 15:50:00 -0500 (Tue, 04 Feb 2025) EllapsedTime: 23.8 seconds RetCode: 0 Status: OK