Package: LimROTS Version: 0.99.12 Command: rm -rf LimROTS.buildbin-libdir && mkdir LimROTS.buildbin-libdir && E:\biocbuild\bbs-3.21-bioc\R\bin\R.exe CMD INSTALL --build --library=LimROTS.buildbin-libdir LimROTS_0.99.12.tar.gz StartedAt: 2025-02-05 08:13:39 -0500 (Wed, 05 Feb 2025) EndedAt: 2025-02-05 08:14:11 -0500 (Wed, 05 Feb 2025) EllapsedTime: 32.5 seconds RetCode: 0 Status: OK PackageFile: LimROTS_0.99.12.zip PackageFileSize: 609.6 KiB