Package: LimROTS Version: 0.99.12 Command: E:\biocbuild\bbs-3.21-bioc\R\bin\R.exe CMD check --no-multiarch --install=check:LimROTS.install-out.txt --library=E:\biocbuild\bbs-3.21-bioc\R\library --no-vignettes --timings LimROTS_0.99.12.tar.gz StartedAt: 2025-02-10 02:23:27 -0500 (Mon, 10 Feb 2025) EndedAt: 2025-02-10 02:27:32 -0500 (Mon, 10 Feb 2025) EllapsedTime: 245.0 seconds RetCode: 0 Status: OK CheckDir: LimROTS.Rcheck Warnings: 0