Package: LimROTS Version: 0.99.12 Command: E:\biocbuild\bbs-3.21-bioc\R\bin\R.exe CMD INSTALL LimROTS StartedAt: 2025-02-04 15:44:04 -0500 (Tue, 04 Feb 2025) EndedAt: 2025-02-04 15:44:35 -0500 (Tue, 04 Feb 2025) EllapsedTime: 31.0 seconds RetCode: 0 Status: OK