Package: LinTInd Version: 1.11.0 Command: /Library/Frameworks/R.framework/Resources/bin/R CMD build --keep-empty-dirs --no-resave-data LinTInd StartedAt: 2025-02-09 16:46:25 -0500 (Sun, 09 Feb 2025) EndedAt: 2025-02-09 16:46:42 -0500 (Sun, 09 Feb 2025) EllapsedTime: 17.2 seconds RetCode: 0 Status: OK PackageFile: LinTInd_1.11.0.tar.gz PackageFileSize: 1.573 MiB