Package: LinTInd Version: 1.11.0 Command: /home/biocbuild/R/R/bin/R CMD build --keep-empty-dirs --no-resave-data LinTInd StartedAt: 2025-01-28 23:55:41 -0000 (Tue, 28 Jan 2025) EndedAt: 2025-01-28 23:56:42 -0000 (Tue, 28 Jan 2025) EllapsedTime: 61.0 seconds RetCode: 0 Status: OK PackageFile: LinTInd_1.11.0.tar.gz PackageFileSize: 1.492 MiB