Package: LinTInd Version: 1.11.0 Command: /Library/Frameworks/R.framework/Resources/bin/R CMD INSTALL LinTInd StartedAt: 2025-02-09 15:23:50 -0500 (Sun, 09 Feb 2025) EndedAt: 2025-02-09 15:24:14 -0500 (Sun, 09 Feb 2025) EllapsedTime: 23.9 seconds RetCode: 0 Status: OK