Package: LinTInd Version: 1.11.0 Command: /home/biocbuild/bbs-3.21-bioc/R/bin/R CMD build --keep-empty-dirs --no-resave-data LinTInd StartedAt: 2025-02-03 18:00:56 -0500 (Mon, 03 Feb 2025) EndedAt: 2025-02-03 18:01:40 -0500 (Mon, 03 Feb 2025) EllapsedTime: 44.0 seconds RetCode: 0 Status: OK PackageFile: LinTInd_1.11.0.tar.gz PackageFileSize: 1.532 MiB