Package: LinTInd Version: 1.11.0 Command: /home/biocbuild/bbs-3.21-bioc/R/bin/R CMD check --install=check:LinTInd.install-out.txt --library=/home/biocbuild/bbs-3.21-bioc/R/site-library --timings LinTInd_1.11.0.tar.gz StartedAt: 2025-02-03 23:46:02 -0500 (Mon, 03 Feb 2025) EndedAt: 2025-02-03 23:48:33 -0500 (Mon, 03 Feb 2025) EllapsedTime: 151.2 seconds RetCode: 0 Status: OK CheckDir: LinTInd.Rcheck Warnings: 0