Package: LinTInd Version: 1.11.0 Command: rm -rf LinTInd.buildbin-libdir && mkdir LinTInd.buildbin-libdir && E:\biocbuild\bbs-3.21-bioc\R\bin\R.exe CMD INSTALL --build --library=LinTInd.buildbin-libdir LinTInd_1.11.0.tar.gz StartedAt: 2025-02-10 08:02:14 -0500 (Mon, 10 Feb 2025) EndedAt: 2025-02-10 08:02:51 -0500 (Mon, 10 Feb 2025) EllapsedTime: 37.5 seconds RetCode: 0 Status: OK PackageFile: LinTInd_1.11.0.zip PackageFileSize: 577.1 KiB