Package: LinTInd Version: 1.11.0 Command: chmod a+r LinTInd -R && E:\biocbuild\bbs-3.21-bioc\R\bin\R.exe CMD build --keep-empty-dirs --no-resave-data LinTInd StartedAt: 2025-02-09 19:33:51 -0500 (Sun, 09 Feb 2025) EndedAt: 2025-02-09 19:34:51 -0500 (Sun, 09 Feb 2025) EllapsedTime: 60.0 seconds RetCode: 0 Status: OK PackageFile: LinTInd_1.11.0.tar.gz PackageFileSize: 1.454 MiB