Package: LinTInd Version: 1.11.0 Command: E:\biocbuild\bbs-3.21-bioc\R\bin\R.exe CMD INSTALL LinTInd StartedAt: 2025-02-09 15:38:10 -0500 (Sun, 09 Feb 2025) EndedAt: 2025-02-09 15:38:41 -0500 (Sun, 09 Feb 2025) EllapsedTime: 31.0 seconds RetCode: 0 Status: OK