Package: Linnorm Version: 2.31.0 Command: rm -rf Linnorm.buildbin-libdir && mkdir Linnorm.buildbin-libdir && /Users/biocbuild/BBS/utils/build-universal.sh Linnorm_2.31.0.tar.gz /Library/Frameworks/R.framework/Resources/bin/R Linnorm.buildbin-libdir StartedAt: 2025-02-04 22:21:04 -0500 (Tue, 04 Feb 2025) EndedAt: 2025-02-04 22:21:13 -0500 (Tue, 04 Feb 2025) EllapsedTime: 9.2 seconds RetCode: 0 Status: OK PackageFile: Linnorm_2.31.0.tgz PackageFileSize: 4.312 MiB