Package: Linnorm Version: 2.31.0 Command: /home/biocbuild/R/R/bin/R CMD check --install=check:Linnorm.install-out.txt --library=/home/biocbuild/R/R/site-library --no-vignettes --timings Linnorm_2.31.0.tar.gz StartedAt: 2025-01-28 11:55:50 -0000 (Tue, 28 Jan 2025) EndedAt: 2025-01-28 12:03:40 -0000 (Tue, 28 Jan 2025) EllapsedTime: 469.6 seconds RetCode: 0 Status: OK CheckDir: Linnorm.Rcheck Warnings: 0