Package: Linnorm Version: 2.31.0 Command: /home/biocbuild/R/R/bin/R CMD INSTALL Linnorm StartedAt: 2025-01-29 19:37:10 -0000 (Wed, 29 Jan 2025) EndedAt: 2025-01-29 19:37:40 -0000 (Wed, 29 Jan 2025) EllapsedTime: 30.1 seconds RetCode: 0 Status: OK