Package: Linnorm Version: 2.31.0 Command: /Library/Frameworks/R.framework/Resources/bin/R CMD build --keep-empty-dirs --no-resave-data Linnorm StartedAt: 2025-02-09 17:15:33 -0500 (Sun, 09 Feb 2025) EndedAt: 2025-02-09 17:19:48 -0500 (Sun, 09 Feb 2025) EllapsedTime: 254.9 seconds RetCode: 0 Status: OK PackageFile: Linnorm_2.31.0.tar.gz PackageFileSize: 4.108 MiB