Package: Linnorm Version: 2.31.0 Command: /Library/Frameworks/R.framework/Resources/bin/R CMD check --install=check:Linnorm.install-out.txt --library=/Library/Frameworks/R.framework/Resources/library --no-vignettes --timings Linnorm_2.31.0.tar.gz StartedAt: 2025-02-09 21:34:47 -0500 (Sun, 09 Feb 2025) EndedAt: 2025-02-09 21:40:48 -0500 (Sun, 09 Feb 2025) EllapsedTime: 360.7 seconds RetCode: 0 Status: OK CheckDir: Linnorm.Rcheck Warnings: 0