Package: Linnorm Version: 2.31.0 Command: /home/biocbuild/bbs-3.21-bioc/R/bin/R CMD build --keep-empty-dirs --no-resave-data Linnorm StartedAt: 2025-02-03 18:00:51 -0500 (Mon, 03 Feb 2025) EndedAt: 2025-02-03 18:04:37 -0500 (Mon, 03 Feb 2025) EllapsedTime: 226.3 seconds RetCode: 0 Status: OK PackageFile: Linnorm_2.31.0.tar.gz PackageFileSize: 4.109 MiB