Package: Linnorm Version: 2.31.0 Command: /home/biocbuild/bbs-3.21-bioc/R/bin/R CMD INSTALL Linnorm StartedAt: 2025-02-09 15:10:50 -0500 (Sun, 09 Feb 2025) EndedAt: 2025-02-09 15:11:17 -0500 (Sun, 09 Feb 2025) EllapsedTime: 26.6 seconds RetCode: 0 Status: OK