Package: Linnorm Version: 2.31.0 Command: rm -rf Linnorm.buildbin-libdir && mkdir Linnorm.buildbin-libdir && E:\biocbuild\bbs-3.21-bioc\R\bin\R.exe CMD INSTALL --build --library=Linnorm.buildbin-libdir Linnorm_2.31.0.tar.gz StartedAt: 2025-02-10 08:02:11 -0500 (Mon, 10 Feb 2025) EndedAt: 2025-02-10 08:02:55 -0500 (Mon, 10 Feb 2025) EllapsedTime: 43.7 seconds RetCode: 0 Status: OK PackageFile: Linnorm_2.31.0.zip PackageFileSize: 4.619 MiB