Package: Linnorm Version: 2.31.0 Command: E:\biocbuild\bbs-3.21-bioc\R\bin\R.exe CMD check --no-multiarch --install=check:Linnorm.install-out.txt --library=E:\biocbuild\bbs-3.21-bioc\R\library --no-vignettes --timings Linnorm_2.31.0.tar.gz StartedAt: 2025-02-10 02:23:51 -0500 (Mon, 10 Feb 2025) EndedAt: 2025-02-10 02:31:41 -0500 (Mon, 10 Feb 2025) EllapsedTime: 470.8 seconds RetCode: 0 Status: OK CheckDir: Linnorm.Rcheck Warnings: 0