Package: LoomExperiment Version: 1.25.0 Command: /home/biocbuild/R/R/bin/R CMD build --keep-empty-dirs --no-resave-data LoomExperiment StartedAt: 2025-01-28 23:56:47 -0000 (Tue, 28 Jan 2025) EndedAt: 2025-01-28 23:57:45 -0000 (Tue, 28 Jan 2025) EllapsedTime: 58.0 seconds RetCode: 0 Status: OK PackageFile: LoomExperiment_1.25.0.tar.gz PackageFileSize: 279.1 KiB