Package: LoomExperiment Version: 1.25.0 Command: /Library/Frameworks/R.framework/Resources/bin/R CMD check --install=check:LoomExperiment.install-out.txt --library=/Library/Frameworks/R.framework/Resources/library --no-vignettes --timings LoomExperiment_1.25.0.tar.gz StartedAt: 2025-02-09 21:36:15 -0500 (Sun, 09 Feb 2025) EndedAt: 2025-02-09 21:40:09 -0500 (Sun, 09 Feb 2025) EllapsedTime: 234.1 seconds RetCode: 0 Status: OK CheckDir: LoomExperiment.Rcheck Warnings: 0