Package: LoomExperiment Version: 1.25.0 Command: /home/biocbuild/bbs-3.21-bioc/R/bin/R CMD build --keep-empty-dirs --no-resave-data LoomExperiment StartedAt: 2025-02-12 17:49:54 -0500 (Wed, 12 Feb 2025) EndedAt: 2025-02-12 17:50:36 -0500 (Wed, 12 Feb 2025) EllapsedTime: 42.0 seconds RetCode: 0 Status: OK PackageFile: LoomExperiment_1.25.0.tar.gz PackageFileSize: 253 KiB