Package: LoomExperiment Version: 1.25.0 Command: /home/biocbuild/bbs-3.21-bioc/R/bin/R CMD INSTALL LoomExperiment StartedAt: 2025-02-09 15:34:55 -0500 (Sun, 09 Feb 2025) EndedAt: 2025-02-09 15:35:24 -0500 (Sun, 09 Feb 2025) EllapsedTime: 28.4 seconds RetCode: 0 Status: OK