Package: LoomExperiment Version: 1.25.0 Command: rm -rf LoomExperiment.buildbin-libdir && mkdir LoomExperiment.buildbin-libdir && E:\biocbuild\bbs-3.21-bioc\R\bin\R.exe CMD INSTALL --build --library=LoomExperiment.buildbin-libdir LoomExperiment_1.25.0.tar.gz StartedAt: 2025-02-10 08:02:36 -0500 (Mon, 10 Feb 2025) EndedAt: 2025-02-10 08:04:48 -0500 (Mon, 10 Feb 2025) EllapsedTime: 132.7 seconds RetCode: 0 Status: OK PackageFile: LoomExperiment_1.25.0.zip PackageFileSize: 875.2 KiB