Package: LoomExperiment Version: 1.25.0 Command: E:\biocbuild\bbs-3.21-bioc\R\bin\R.exe CMD INSTALL LoomExperiment StartedAt: 2025-02-09 16:17:20 -0500 (Sun, 09 Feb 2025) EndedAt: 2025-02-09 16:18:56 -0500 (Sun, 09 Feb 2025) EllapsedTime: 95.4 seconds RetCode: 0 Status: OK