Package: LymphoSeq Version: 1.35.0 Command: rm -rf LymphoSeq.buildbin-libdir && mkdir LymphoSeq.buildbin-libdir && /Users/biocbuild/BBS/utils/build-universal.sh LymphoSeq_1.35.0.tar.gz /Library/Frameworks/R.framework/Resources/bin/R LymphoSeq.buildbin-libdir StartedAt: 2025-02-09 22:19:24 -0500 (Sun, 09 Feb 2025) EndedAt: 2025-02-09 22:19:32 -0500 (Sun, 09 Feb 2025) EllapsedTime: 8.2 seconds RetCode: 0 Status: OK PackageFile: LymphoSeq_1.35.0.tgz PackageFileSize: 2.493 MiB