Package: LymphoSeq Version: 1.35.0 Command: /home/biocbuild/R/R/bin/R CMD build --keep-empty-dirs --no-resave-data LymphoSeq StartedAt: 2025-01-28 23:57:11 -0000 (Tue, 28 Jan 2025) EndedAt: 2025-01-28 23:58:40 -0000 (Tue, 28 Jan 2025) EllapsedTime: 89.0 seconds RetCode: 0 Status: OK PackageFile: LymphoSeq_1.35.0.tar.gz PackageFileSize: 1.531 MiB