Package: LymphoSeq Version: 1.35.0 Command: /home/biocbuild/R/R/bin/R CMD check --install=check:LymphoSeq.install-out.txt --library=/home/biocbuild/R/R/site-library --no-vignettes --timings LymphoSeq_1.35.0.tar.gz StartedAt: 2025-01-28 11:58:48 -0000 (Tue, 28 Jan 2025) EndedAt: 2025-01-28 12:02:51 -0000 (Tue, 28 Jan 2025) EllapsedTime: 242.3 seconds RetCode: 0 Status: OK CheckDir: LymphoSeq.Rcheck Warnings: 0