Package: LymphoSeq Version: 1.35.0 Command: rm -rf LymphoSeq.buildbin-libdir && mkdir LymphoSeq.buildbin-libdir && /Users/biocbuild/BBS/utils/build-universal.sh LymphoSeq_1.35.0.tar.gz /Library/Frameworks/R.framework/Resources/bin/R LymphoSeq.buildbin-libdir StartedAt: 2025-02-13 00:43:35 -0500 (Thu, 13 Feb 2025) EndedAt: 2025-02-13 00:44:04 -0500 (Thu, 13 Feb 2025) EllapsedTime: 29.1 seconds RetCode: 0 Status: OK PackageFile: LymphoSeq_1.35.0.tgz PackageFileSize: 2.487 MiB