Package: LymphoSeq Version: 1.35.0 Command: chmod a+r LymphoSeq -R && E:\biocbuild\bbs-3.21-bioc\R\bin\R.exe CMD build --keep-empty-dirs --no-resave-data LymphoSeq StartedAt: 2025-02-09 19:35:34 -0500 (Sun, 09 Feb 2025) EndedAt: 2025-02-09 19:37:27 -0500 (Sun, 09 Feb 2025) EllapsedTime: 112.7 seconds RetCode: 0 Status: OK PackageFile: LymphoSeq_1.35.0.tar.gz PackageFileSize: 1.365 MiB