Package: M3C Version: 1.29.0 Maintainer: Christopher John MaintainerEmail: chris.r.john86 at gmail.com git_url: https://git.bioconductor.org/packages/M3C git_branch: devel git_last_commit: cbbb878 git_last_commit_date: 2024-10-29 10:21:27 -0500 (Tue, 29 Oct 2024)