Package: M3C Version: 1.29.0 Command: rm -rf M3C.buildbin-libdir && mkdir M3C.buildbin-libdir && /Users/biocbuild/BBS/utils/build-universal.sh M3C_1.29.0.tar.gz /Library/Frameworks/R.framework/Resources/bin/R M3C.buildbin-libdir StartedAt: 2025-02-04 22:21:17 -0500 (Tue, 04 Feb 2025) EndedAt: 2025-02-04 22:21:21 -0500 (Tue, 04 Feb 2025) EllapsedTime: 4.1 seconds RetCode: 0 Status: OK PackageFile: M3C_1.29.0.tgz PackageFileSize: 756.9 KiB