Package: M3C Version: 1.29.0 Command: /Library/Frameworks/R.framework/Resources/bin/R CMD build --keep-empty-dirs --no-resave-data M3C StartedAt: 2025-02-04 16:47:15 -0500 (Tue, 04 Feb 2025) EndedAt: 2025-02-04 16:47:35 -0500 (Tue, 04 Feb 2025) EllapsedTime: 20.2 seconds RetCode: 0 Status: OK PackageFile: M3C_1.29.0.tar.gz PackageFileSize: 587.8 KiB