Package: M3C Version: 1.29.0 Command: /Library/Frameworks/R.framework/Resources/bin/R CMD INSTALL M3C StartedAt: 2025-02-04 15:06:18 -0500 (Tue, 04 Feb 2025) EndedAt: 2025-02-04 15:06:22 -0500 (Tue, 04 Feb 2025) EllapsedTime: 3.8 seconds RetCode: 0 Status: OK