Package: M3C Version: 1.29.0 Command: rm -rf M3C.buildbin-libdir && mkdir M3C.buildbin-libdir && /Users/biocbuild/BBS/utils/build-universal.sh M3C_1.29.0.tar.gz /Library/Frameworks/R.framework/Resources/bin/R M3C.buildbin-libdir StartedAt: 2025-02-10 01:00:31 -0500 (Mon, 10 Feb 2025) EndedAt: 2025-02-10 01:00:46 -0500 (Mon, 10 Feb 2025) EllapsedTime: 15.1 seconds RetCode: 0 Status: OK PackageFile: M3C_1.29.0.tgz PackageFileSize: 757.9 KiB