Package: M3C Version: 1.29.0 Command: /Library/Frameworks/R.framework/Resources/bin/R CMD check --install=check:M3C.install-out.txt --library=/Library/Frameworks/R.framework/Resources/library --no-vignettes --timings M3C_1.29.0.tar.gz StartedAt: 2025-02-09 21:37:11 -0500 (Sun, 09 Feb 2025) EndedAt: 2025-02-09 21:38:47 -0500 (Sun, 09 Feb 2025) EllapsedTime: 95.7 seconds RetCode: 0 Status: OK CheckDir: M3C.Rcheck Warnings: 0