Package: M3C Version: 1.29.0 Command: /home/biocbuild/bbs-3.21-bioc/R/bin/R CMD INSTALL M3C StartedAt: 2025-02-09 15:11:11 -0500 (Sun, 09 Feb 2025) EndedAt: 2025-02-09 15:11:27 -0500 (Sun, 09 Feb 2025) EllapsedTime: 16.5 seconds RetCode: 0 Status: OK