Package: M3C Version: 1.29.0 Command: rm -rf M3C.buildbin-libdir && mkdir M3C.buildbin-libdir && E:\biocbuild\bbs-3.21-bioc\R\bin\R.exe CMD INSTALL --build --library=M3C.buildbin-libdir M3C_1.29.0.tar.gz StartedAt: 2025-02-10 08:03:11 -0500 (Mon, 10 Feb 2025) EndedAt: 2025-02-10 08:03:31 -0500 (Mon, 10 Feb 2025) EllapsedTime: 19.8 seconds RetCode: 0 Status: OK PackageFile: M3C_1.29.0.zip PackageFileSize: 760.4 KiB