Package: M3C Version: 1.29.0 Command: chmod a+r M3C -R && E:\biocbuild\bbs-3.21-bioc\R\bin\R.exe CMD build --keep-empty-dirs --no-resave-data M3C StartedAt: 2025-02-04 19:38:09 -0500 (Tue, 04 Feb 2025) EndedAt: 2025-02-04 19:39:31 -0500 (Tue, 04 Feb 2025) EllapsedTime: 82.1 seconds RetCode: 0 Status: OK PackageFile: M3C_1.29.0.tar.gz PackageFileSize: 589.7 KiB