Package: MAGAR Version: 1.15.1 Maintainer: Michael Scherer MaintainerEmail: michael.scherer at dkfz.de git_url: https://git.bioconductor.org/packages/MAGAR git_branch: devel git_last_commit: 42a555a git_last_commit_date: 2024-11-13 03:57:12 -0500 (Wed, 13 Nov 2024)