Package: MAGAR Version: 1.15.1 Command: /Library/Frameworks/R.framework/Resources/bin/R CMD build --keep-empty-dirs --no-resave-data MAGAR StartedAt: 2025-02-04 17:12:51 -0500 (Tue, 04 Feb 2025) EndedAt: 2025-02-04 17:12:54 -0500 (Tue, 04 Feb 2025) EllapsedTime: 2.3 seconds RetCode: 1 Status: ERROR PackageFile: None PackageFileSize: NA