############################################################################## ############################################################################## ### ### Running command: ### ### /home/biocbuild/bbs-3.21-bioc/R/bin/R CMD build --keep-empty-dirs --no-resave-data MAGAR ### ############################################################################## ############################################################################## * checking for file ‘MAGAR/DESCRIPTION’ ... OK * preparing ‘MAGAR’: * checking DESCRIPTION meta-information ... OK * installing the package to build vignettes ----------------------------------- ERROR: dependency ‘crlmm’ is not available for package ‘MAGAR’ Perhaps try a variation of: install.packages('crlmm') * removing ‘/tmp/Rtmp2VCpJ3/Rinst394c6562b7e7e8/MAGAR’ ----------------------------------- ERROR: package installation failed