Package: MAGAR Version: 1.15.1 Command: /home/biocbuild/bbs-3.21-bioc/R/bin/R CMD check --install=check:MAGAR.install-out.txt --library=/home/biocbuild/bbs-3.21-bioc/R/site-library --timings MAGAR_1.15.1.tar.gz StartedAt: 2025-01-21 23:35:46 -0500 (Tue, 21 Jan 2025) EndedAt: 2025-01-21 23:44:02 -0500 (Tue, 21 Jan 2025) EllapsedTime: 495.7 seconds RetCode: 0 Status: OK CheckDir: MAGAR.Rcheck Warnings: 0