Package: MAGAR Version: 1.15.1 Command: chmod a+r MAGAR -R && E:\biocbuild\bbs-3.21-bioc\R\bin\R.exe CMD build --keep-empty-dirs --no-resave-data MAGAR StartedAt: 2025-02-04 19:39:31 -0500 (Tue, 04 Feb 2025) EndedAt: 2025-02-04 19:39:38 -0500 (Tue, 04 Feb 2025) EllapsedTime: 6.9 seconds RetCode: 1 Status: ERROR PackageFile: None PackageFileSize: NA