Package: MAI Version: 1.13.0 Command: rm -rf MAI.buildbin-libdir && mkdir MAI.buildbin-libdir && /Users/biocbuild/BBS/utils/build-universal.sh MAI_1.13.0.tar.gz /Library/Frameworks/R.framework/Resources/bin/R MAI.buildbin-libdir StartedAt: 2025-02-13 00:43:44 -0500 (Thu, 13 Feb 2025) EndedAt: 2025-02-13 00:44:24 -0500 (Thu, 13 Feb 2025) EllapsedTime: 39.4 seconds RetCode: 0 Status: OK PackageFile: MAI_1.13.0.tgz PackageFileSize: 498.8 KiB